BEGIN:VCALENDAR
VERSION:2.0
PRODID:-//Discovery CC - ECPv6.0.10//NONSGML v1.0//EN
CALSCALE:GREGORIAN
METHOD:PUBLISH
X-WR-CALNAME:Discovery CC
X-ORIGINAL-URL:https://www.discoverycc.com
X-WR-CALDESC:Events for Discovery CC
REFRESH-INTERVAL;VALUE=DURATION:PT1H
X-Robots-Tag:noindex
X-PUBLISHED-TTL:PT1H
BEGIN:VTIMEZONE
TZID:America/New_York
BEGIN:DAYLIGHT
TZOFFSETFROM:-0500
TZOFFSETTO:-0400
TZNAME:EDT
DTSTART:20260308T070000
END:DAYLIGHT
BEGIN:STANDARD
TZOFFSETFROM:-0400
TZOFFSETTO:-0500
TZNAME:EST
DTSTART:20261101T060000
END:STANDARD
END:VTIMEZONE
BEGIN:VEVENT
DTSTART;VALUE=DATE:20260301
DTEND;VALUE=DATE:20260302
DTSTAMP:20260421T095148
CREATED:20260108T194638Z
LAST-MODIFIED:20260108T194638Z
UID:3895-1772323200-1772409599@www.discoverycc.com
SUMMARY:New Billing Period
DESCRIPTION:
URL:https://www.discoverycc.com/event/new-billing-period-12/
END:VEVENT
BEGIN:VEVENT
DTSTART;VALUE=DATE:20260320
DTEND;VALUE=DATE:20260321
DTSTAMP:20260421T095148
CREATED:20250910T171629Z
LAST-MODIFIED:20250910T171629Z
UID:3803-1773964800-1774051199@www.discoverycc.com
SUMMARY:No Nursery School
DESCRIPTION:
URL:https://www.discoverycc.com/event/no-nursery-school-21/
END:VEVENT
BEGIN:VEVENT
DTSTART;VALUE=DATE:20260329
DTEND;VALUE=DATE:20260330
DTSTAMP:20260421T095148
CREATED:20260108T194659Z
LAST-MODIFIED:20260108T194659Z
UID:3897-1774742400-1774828799@www.discoverycc.com
SUMMARY:New Billing Period
DESCRIPTION:
URL:https://www.discoverycc.com/event/new-billing-period-13/
END:VEVENT
BEGIN:VEVENT
DTSTART;VALUE=DATE:20260330
DTEND;VALUE=DATE:20260404
DTSTAMP:20260421T095148
CREATED:20250910T171743Z
LAST-MODIFIED:20250910T171743Z
UID:3807-1774828800-1775260799@www.discoverycc.com
SUMMARY:No Nursery School- Spring Break
DESCRIPTION:
URL:https://www.discoverycc.com/event/no-nursery-school-spring-break-3/
END:VEVENT
END:VCALENDAR