BEGIN:VCALENDAR
VERSION:2.0
PRODID:-//Discovery CC - ECPv6.0.10//NONSGML v1.0//EN
CALSCALE:GREGORIAN
METHOD:PUBLISH
X-WR-CALNAME:Discovery CC
X-ORIGINAL-URL:https://www.discoverycc.com
X-WR-CALDESC:Events for Discovery CC
REFRESH-INTERVAL;VALUE=DURATION:PT1H
X-Robots-Tag:noindex
X-PUBLISHED-TTL:PT1H
BEGIN:VTIMEZONE
TZID:America/New_York
BEGIN:DAYLIGHT
TZOFFSETFROM:-0500
TZOFFSETTO:-0400
TZNAME:EDT
DTSTART:20250309T070000
END:DAYLIGHT
BEGIN:STANDARD
TZOFFSETFROM:-0400
TZOFFSETTO:-0500
TZNAME:EST
DTSTART:20251102T060000
END:STANDARD
END:VTIMEZONE
BEGIN:VEVENT
DTSTART;VALUE=DATE:20250901
DTEND;VALUE=DATE:20250902
DTSTAMP:20260420T051410
CREATED:20241205T164411Z
LAST-MODIFIED:20241205T164411Z
UID:3746-1756684800-1756771199@www.discoverycc.com
SUMMARY:Labour Day - Discovery Closed
DESCRIPTION:
URL:https://www.discoverycc.com/event/labour-day-discovery-closed/
END:VEVENT
BEGIN:VEVENT
DTSTART;TZID=America/New_York:20250910T080000
DTEND;TZID=America/New_York:20250910T170000
DTSTAMP:20260420T051410
CREATED:20250910T172600Z
LAST-MODIFIED:20250910T172600Z
UID:3813-1757491200-1757523600@www.discoverycc.com
SUMMARY:Boxing Day- Centre Closed
DESCRIPTION:Flex Regular Child – Open
URL:https://www.discoverycc.com/event/boxing-day-centre-closed-3/
END:VEVENT
BEGIN:VEVENT
DTSTART;TZID=America/New_York:20250910T080000
DTEND;TZID=America/New_York:20250910T170000
DTSTAMP:20260420T051410
CREATED:20250910T173253Z
LAST-MODIFIED:20250910T173253Z
UID:3821-1757491200-1757523600@www.discoverycc.com
SUMMARY:Boxing Day- Centre Closed
DESCRIPTION:Flex Regular families only can book care- open 6:00 AM – 7:30 PM
URL:https://www.discoverycc.com/event/boxing-day-centre-closed-4/
END:VEVENT
BEGIN:VEVENT
DTSTART;TZID=America/New_York:20250917T180000
DTEND;TZID=America/New_York:20250917T200000
DTSTAMP:20260420T051410
CREATED:20241121T172348Z
LAST-MODIFIED:20241121T172348Z
UID:3722-1758132000-1758139200@www.discoverycc.com
SUMMARY:Board Meeting
DESCRIPTION:
URL:https://www.discoverycc.com/event/board-meeting-6/
END:VEVENT
BEGIN:VEVENT
DTSTART;TZID=America/New_York:20250924T180000
DTEND;TZID=America/New_York:20250924T190000
DTSTAMP:20260420T051410
CREATED:20241121T172726Z
LAST-MODIFIED:20241121T172726Z
UID:3724-1758736800-1758740400@www.discoverycc.com
SUMMARY:AGM (Annual General Meeting)
DESCRIPTION:
URL:https://www.discoverycc.com/event/agm-annual-general-meeting/
END:VEVENT
BEGIN:VEVENT
DTSTART;VALUE=DATE:20250930
DTEND;VALUE=DATE:20251001
DTSTAMP:20260420T051410
CREATED:20241205T164509Z
LAST-MODIFIED:20241205T164509Z
UID:3748-1759190400-1759276799@www.discoverycc.com
SUMMARY:National Day of Truth and Reconciliation - Discovery Closed
DESCRIPTION:
URL:https://www.discoverycc.com/event/national-day-of-truth-and-reconciliation-discovery-closed/
END:VEVENT
END:VCALENDAR