BEGIN:VCALENDAR
VERSION:2.0
PRODID:-//Discovery CC - ECPv6.0.10//NONSGML v1.0//EN
CALSCALE:GREGORIAN
METHOD:PUBLISH
X-WR-CALNAME:Discovery CC
X-ORIGINAL-URL:https://www.discoverycc.com
X-WR-CALDESC:Events for Discovery CC
REFRESH-INTERVAL;VALUE=DURATION:PT1H
X-Robots-Tag:noindex
X-PUBLISHED-TTL:PT1H
BEGIN:VTIMEZONE
TZID:America/New_York
BEGIN:DAYLIGHT
TZOFFSETFROM:-0500
TZOFFSETTO:-0400
TZNAME:EDT
DTSTART:20250309T070000
END:DAYLIGHT
BEGIN:STANDARD
TZOFFSETFROM:-0400
TZOFFSETTO:-0500
TZNAME:EST
DTSTART:20251102T060000
END:STANDARD
END:VTIMEZONE
BEGIN:VEVENT
DTSTART;TZID=America/New_York:20250603T173000
DTEND;TZID=America/New_York:20250603T190000
DTSTAMP:20260419T235253
CREATED:20250226T191446Z
LAST-MODIFIED:20250226T191446Z
UID:3773-1748971800-1748977200@www.discoverycc.com
SUMMARY:Family Fun Day
DESCRIPTION:
URL:https://www.discoverycc.com/event/family-fun-day-2/
END:VEVENT
BEGIN:VEVENT
DTSTART;TZID=America/New_York:20250605T173000
DTEND;TZID=America/New_York:20250605T190000
DTSTAMP:20260419T235253
CREATED:20250226T193513Z
LAST-MODIFIED:20250226T193513Z
UID:3775-1749144600-1749150000@www.discoverycc.com
SUMMARY:Family Fun Day (rain date)
DESCRIPTION:
URL:https://www.discoverycc.com/event/family-fun-day-rain-date/
END:VEVENT
BEGIN:VEVENT
DTSTART;VALUE=DATE:20250611
DTEND;VALUE=DATE:20250612
DTSTAMP:20260419T235253
CREATED:20250226T171526Z
LAST-MODIFIED:20250226T171526Z
UID:3769-1749600000-1749686399@www.discoverycc.com
SUMMARY:Last Day of Nursery School
DESCRIPTION:Last Day for Monday/Wednesday/Friday Groups.
URL:https://www.discoverycc.com/event/last-day-of-nursery-school-2/
END:VEVENT
BEGIN:VEVENT
DTSTART;VALUE=DATE:20250612
DTEND;VALUE=DATE:20250613
DTSTAMP:20260419T235253
CREATED:20250226T171640Z
LAST-MODIFIED:20250226T180739Z
UID:3771-1749686400-1749772799@www.discoverycc.com
SUMMARY:Last Day of Nursery School
DESCRIPTION:Last day for Monday-Friday and Tuesday/Thursday groups.
URL:https://www.discoverycc.com/event/last-day-of-nursery-school-3/
END:VEVENT
BEGIN:VEVENT
DTSTART;VALUE=DATE:20250613
DTEND;VALUE=DATE:20250614
DTSTAMP:20260419T235253
CREATED:20250226T193634Z
LAST-MODIFIED:20250226T193634Z
UID:3777-1749772800-1749859199@www.discoverycc.com
SUMMARY:No Nursery School
DESCRIPTION:
URL:https://www.discoverycc.com/event/no-nursery-school-15/
END:VEVENT
BEGIN:VEVENT
DTSTART;TZID=America/New_York:20250625T180000
DTEND;TZID=America/New_York:20250625T200000
DTSTAMP:20260419T235253
CREATED:20241121T172201Z
LAST-MODIFIED:20241121T172201Z
UID:3720-1750874400-1750881600@www.discoverycc.com
SUMMARY:Board Meeting
DESCRIPTION:
URL:https://www.discoverycc.com/event/board-meeting-5/
END:VEVENT
BEGIN:VEVENT
DTSTART;VALUE=DATE:20250630
DTEND;VALUE=DATE:20250701
DTSTAMP:20260419T235253
CREATED:20250120T194951Z
LAST-MODIFIED:20250120T194951Z
UID:3756-1751241600-1751327999@www.discoverycc.com
SUMMARY:Centre Closed
DESCRIPTION:In lieu of Easter Monday
URL:https://www.discoverycc.com/event/centre-closed-7/
END:VEVENT
END:VCALENDAR