BEGIN:VCALENDAR
VERSION:2.0
PRODID:-//Discovery CC - ECPv6.0.10//NONSGML v1.0//EN
CALSCALE:GREGORIAN
METHOD:PUBLISH
X-ORIGINAL-URL:https://www.discoverycc.com
X-WR-CALDESC:Events for Discovery CC
REFRESH-INTERVAL;VALUE=DURATION:PT1H
X-Robots-Tag:noindex
X-PUBLISHED-TTL:PT1H
BEGIN:VTIMEZONE
TZID:America/New_York
BEGIN:DAYLIGHT
TZOFFSETFROM:-0500
TZOFFSETTO:-0400
TZNAME:EDT
DTSTART:20250309T070000
END:DAYLIGHT
BEGIN:STANDARD
TZOFFSETFROM:-0400
TZOFFSETTO:-0500
TZNAME:EST
DTSTART:20251102T060000
END:STANDARD
END:VTIMEZONE
BEGIN:VEVENT
DTSTART;TZID=America/New_York:20250910T080000
DTEND;TZID=America/New_York:20250910T170000
DTSTAMP:20260420T064656
CREATED:20250910T172600Z
LAST-MODIFIED:20250910T172600Z
UID:3813-1757491200-1757523600@www.discoverycc.com
SUMMARY:Boxing Day- Centre Closed
DESCRIPTION:Flex Regular Child – Open
URL:https://www.discoverycc.com/event/boxing-day-centre-closed-3/
END:VEVENT
BEGIN:VEVENT
DTSTART;TZID=America/New_York:20250910T080000
DTEND;TZID=America/New_York:20250910T170000
DTSTAMP:20260420T064656
CREATED:20250910T173253Z
LAST-MODIFIED:20250910T173253Z
UID:3821-1757491200-1757523600@www.discoverycc.com
SUMMARY:Boxing Day- Centre Closed
DESCRIPTION:Flex Regular families only can book care- open 6:00 AM – 7:30 PM
URL:https://www.discoverycc.com/event/boxing-day-centre-closed-4/
END:VEVENT
END:VCALENDAR